BEGIN:VCALENDAR
VERSION:2.0
PRODID:-//Working Equitation Florida - ECPv6.15.20//NONSGML v1.0//EN
CALSCALE:GREGORIAN
METHOD:PUBLISH
X-WR-CALNAME:Working Equitation Florida
X-ORIGINAL-URL:https://workingequitationflorida.com
X-WR-CALDESC:Events for Working Equitation Florida
REFRESH-INTERVAL;VALUE=DURATION:PT1H
X-Robots-Tag:noindex
X-PUBLISHED-TTL:PT1H
BEGIN:VTIMEZONE
TZID:America/New_York
BEGIN:DAYLIGHT
TZOFFSETFROM:-0500
TZOFFSETTO:-0400
TZNAME:EDT
DTSTART:20250309T070000
END:DAYLIGHT
BEGIN:STANDARD
TZOFFSETFROM:-0400
TZOFFSETTO:-0500
TZNAME:EST
DTSTART:20251102T060000
END:STANDARD
BEGIN:DAYLIGHT
TZOFFSETFROM:-0500
TZOFFSETTO:-0400
TZNAME:EDT
DTSTART:20260308T070000
END:DAYLIGHT
BEGIN:STANDARD
TZOFFSETFROM:-0400
TZOFFSETTO:-0500
TZNAME:EST
DTSTART:20261101T060000
END:STANDARD
BEGIN:DAYLIGHT
TZOFFSETFROM:-0500
TZOFFSETTO:-0400
TZNAME:EDT
DTSTART:20270314T070000
END:DAYLIGHT
BEGIN:STANDARD
TZOFFSETFROM:-0400
TZOFFSETTO:-0500
TZNAME:EST
DTSTART:20271107T060000
END:STANDARD
END:VTIMEZONE
BEGIN:VEVENT
DTSTART;TZID=America/New_York:20260531T080000
DTEND;TZID=America/New_York:20260601T170000
DTSTAMP:20260423T162519
CREATED:20260422T131644Z
LAST-MODIFIED:20260422T131644Z
UID:582-1780214400-1780333200@workingequitationflorida.com
SUMMARY:Ride a Test Schooling Show
DESCRIPTION:Join us for a great day of practicing our tests and getting expert feedback from a licensed USAWE S Judge!! For only $150 a day! Two days\, schooling the test and getting feedback then riding the Ease of Handling course with more help on getting better scores! Then a fun speed round with your favorite tune!
URL:https://workingequitationflorida.com/event/ride-a-test-schooling-show/
LOCATION:Valcor Farm\, 13193 NW 97th Pl\, Ocala\, FL\, 34482\, United States
CATEGORIES:Schooling show
ATTACH;FMTTYPE=image/jpeg:https://workingequitationflorida.com/wp-content/uploads/2026/04/horse-peering-over-door-1.jpg
ORGANIZER;CN="Working Equitation Florida":MAILTO:amie@workingequitationflorida.com
END:VEVENT
END:VCALENDAR